BEGIN:VCALENDAR
VERSION:2.0
PRODID:-//hacksw/handcal//NONSGML v1.0//EN
BEGIN:VEVENT
SUMMARY:Dernier match PNF avant la N3
UID:01ac8d5b-6b7b-4282-bbad-6be1b97fd5dd
DTSTART:20260510T110000Z
DTEND:20260510T130000Z
LOCATION:Localisation   
CATEGORIES:Sportif
STATUS:
DESCRIPTION:<p><meta charset="UTF-8" /></p>
 
 <p>📅 Dernier match a
 domicile : dimanche 10 mai a 13h 🔔</p>
 
 <p> </p>
 
 <p>Vous etes
 tous convies pour venir nombreux voir le match et feter cette montee
 tous ensemble comme il se doit 🖤💛</p>
 
 <p> </p>
 
 <p>Merci a
 tous pour votre soutien depuis le debut de saison. Cette montee,
 c’est aussi la votre.</p>
URL;VALUE=URI:https://www.esvlvolley.com/evenements/2026/05/10/dernier-match-pnf-avant-la-n3-2443661
END:VEVENT
END:VCALENDAR
